Workbook

Sheet KreditOsszegek
A1: Kreditindex | B1: Ösztöndíj | D1: Kreditindex | E1: Ösztöndíj | G1: Kreditindex | H1: Ösztöndíj | J1: Kreditindex | K1: Ösztöndíj | M1: Kreditindex | N1: Ösztöndíj | P1: Kreditindex | Q1: Ösztöndíj | S1: Kreditindex | T1: Ösztöndíj | V1: Kreditindex | W1: Ösztöndíj
A2: 4.1 | B2: =ROUNDDOWN(([1]Újmódszer!$U$7*A2+IF(A2>=5,[1]Újmódszer!$AB$7,0)),-2) -> 19500 | D2: 5 | E2: =ROUNDDOWN(([1]Újmódszer!$U$7*D2+IF(D2>=5,[1]Újmódszer!$AB$7,0)),-2) -> 28800 | G2: 6 | H2: =ROUNDDOWN(([1]Újmódszer!$U$7*G2+IF(G2>=5,[1]Újmódszer!$AB$7,0)),-2) -> 33600 | J2: 7 | K2: =ROUNDDOWN(([1]Újmódszer!$U$7*J2+IF(J2>=5,[1]Újmódszer!$AB$7,0)),-2) -> 38400 | M2: 8 | N2: =ROUNDDOWN(([1]Újmódszer!$U$7*M2+IF(M2>=5,[1]Újmódszer!$AB$7,0)),-2) -> 43100 | P2: 9 | Q2: =ROUNDDOWN(([1]Újmódszer!$U$7*P2+IF(P2>=5,[1]Újmódszer!$AB$7,0)),-2) -> 47900 | S2: 10 | T2: =ROUNDDOWN(([1]Újmódszer!$U$7*S2+IF(S2>=5,[1]Újmódszer!$AB$7,0)),-2) -> 52700 | V2: 11 | W2: =ROUNDDOWN(([1]Újmódszer!$U$7*V2+IF(V2>=5,[1]Újmódszer!$AB$7,0)),-2) -> 57500
A3: 4.11 | B3: =ROUNDDOWN(([1]Újmódszer!$U$7*A3+IF(A3>=5,[1]Újmódszer!$AB$7,0)),-2) -> 19600 | D3: 5.01 | E3: =ROUNDDOWN(([1]Újmódszer!$U$7*D3+IF(D3>=5,[1]Újmódszer!$AB$7,0)),-2) -> 28900 | G3: 6.01 | H3: =ROUNDDOWN(([1]Újmódszer!$U$7*G3+IF(G3>=5,[1]Újmódszer!$AB$7,0)),-2) -> 33600 | J3: 7.01 | K3: =ROUNDDOWN(([1]Újmódszer!$U$7*J3+IF(J3>=5,[1]Újmódszer!$AB$7,0)),-2) -> 38400 | M3: 8.01 | N3: =ROUNDDOWN(([1]Újmódszer!$U$7*M3+IF(M3>=5,[1]Újmódszer!$AB$7,0)),-2) -> 43200 | P3: 9.01 | Q3: =ROUNDDOWN(([1]Újmódszer!$U$7*P3+IF(P3>=5,[1]Újmódszer!$AB$7,0)),-2) -> 48000 | S3: 10.01 | T3: =ROUNDDOWN(([1]Újmódszer!$U$7*S3+IF(S3>=5,[1]Újmódszer!$AB$7,0)),-2) -> 52700 | V3: 11.01 | W3: =ROUNDDOWN(([1]Újmódszer!$U$7*V3+IF(V3>=5,[1]Újmódszer!$AB$7,0)),-2) -> 57500
A4: 4.12 | B4: =ROUNDDOWN(([1]Újmódszer!$U$7*A4+IF(A4>=5,[1]Újmódszer!$AB$7,0)),-2) -> 19600 | D4: 5.02 | E4: =ROUNDDOWN(([1]Újmódszer!$U$7*D4+IF(D4>=5,[1]Újmódszer!$AB$7,0)),-2) -> 28900 | G4: 6.02 | H4: =ROUNDDOWN(([1]Újmódszer!$U$7*G4+IF(G4>=5,[1]Újmódszer!$AB$7,0)),-2) -> 33700 | J4: 7.02 | K4: =ROUNDDOWN(([1]Újmódszer!$U$7*J4+IF(J4>=5,[1]Újmódszer!$AB$7,0)),-2) -> 38500 | M4: 8.02 | N4: =ROUNDDOWN(([1]Újmódszer!$U$7*M4+IF(M4>=5,[1]Újmódszer!$AB$7,0)),-2) -> 43200 | P4: 9.02 | Q4: =ROUNDDOWN(([1]Újmódszer!$U$7*P4+IF(P4>=5,[1]Újmódszer!$AB$7,0)),-2) -> 48000 | S4: 10.02 | T4: =ROUNDDOWN(([1]Újmódszer!$U$7*S4+IF(S4>=5,[1]Újmódszer!$AB$7,0)),-2) -> 52800 | V4: 11.02 | W4: =ROUNDDOWN(([1]Újmódszer!$U$7*V4+IF(V4>=5,[1]Újmódszer!$AB$7,0)),-2) -> 57600
A5: 4.13 | B5: =ROUNDDOWN(([1]Újmódszer!$U$7*A5+IF(A5>=5,[1]Újmódszer!$AB$7,0)),-2) -> 19700 | D5: 5.03 | E5: =ROUNDDOWN(([1]Újmódszer!$U$7*D5+IF(D5>=5,[1]Újmódszer!$AB$7,0)),-2) -> 29000 | G5: 6.03 | H5: =ROUNDDOWN(([1]Újmódszer!$U$7*G5+IF(G5>=5,[1]Újmódszer!$AB$7,0)),-2) -> 33700 | J5: 7.03 | K5: =ROUNDDOWN(([1]Újmódszer!$U$7*J5+IF(J5>=5,[1]Újmódszer!$AB$7,0)),-2) -> 38500 | M5: 8.03 | N5: =ROUNDDOWN(([1]Újmódszer!$U$7*M5+IF(M5>=5,[1]Újmódszer!$AB$7,0)),-2) -> 43300 | P5: 9.03 | Q5: =ROUNDDOWN(([1]Újmódszer!$U$7*P5+IF(P5>=5,[1]Újmódszer!$AB$7,0)),-2) -> 48100 | S5: 10.03 | T5: =ROUNDDOWN(([1]Újmódszer!$U$7*S5+IF(S5>=5,[1]Újmódszer!$AB$7,0)),-2) -> 52800 | V5: 11.03 | W5: =ROUNDDOWN(([1]Újmódszer!$U$7*V5+IF(V5>=5,[1]Újmódszer!$AB$7,0)),-2) -> 57600
A6: 4.14 | B6: =ROUNDDOWN(([1]Újmódszer!$U$7*A6+IF(A6>=5,[1]Újmódszer!$AB$7,0)),-2) -> 19700 | D6: 5.04 | E6: =ROUNDDOWN(([1]Újmódszer!$U$7*D6+IF(D6>=5,[1]Újmódszer!$AB$7,0)),-2) -> 29000 | G6: 6.04 | H6: =ROUNDDOWN(([1]Újmódszer!$U$7*G6+IF(G6>=5,[1]Újmódszer!$AB$7,0)),-2) -> 33800 | J6: 7.04 | K6: =ROUNDDOWN(([1]Újmódszer!$U$7*J6+IF(J6>=5,[1]Újmódszer!$AB$7,0)),-2) -> 38600 | M6: 8.04 | N6: =ROUNDDOWN(([1]Újmódszer!$U$7*M6+IF(M6>=5,[1]Újmódszer!$AB$7,0)),-2) -> 43300 | P6: 9.04 | Q6: =ROUNDDOWN(([1]Újmódszer!$U$7*P6+IF(P6>=5,[1]Újmódszer!$AB$7,0)),-2) -> 48100 | S6: 10.04 | T6: =ROUNDDOWN(([1]Újmódszer!$U$7*S6+IF(S6>=5,[1]Újmódszer!$AB$7,0)),-2) -> 52900 | V6: 11.04 | W6: =ROUNDDOWN(([1]Újmódszer!$U$7*V6+IF(V6>=5,[1]Újmódszer!$AB$7,0)),-2) -> 57700
A7: 4.15 | B7: =ROUNDDOWN(([1]Újmódszer!$U$7*A7+IF(A7>=5,[1]Újmódszer!$AB$7,0)),-2) -> 19800 | D7: 5.05 | E7: =ROUNDDOWN(([1]Újmódszer!$U$7*D7+IF(D7>=5,[1]Újmódszer!$AB$7,0)),-2) -> 29100 | G7: 6.05 | H7: =ROUNDDOWN(([1]Újmódszer!$U$7*G7+IF(G7>=5,[1]Újmódszer!$AB$7,0)),-2) -> 33800 | J7: 7.05 | K7: =ROUNDDOWN(([1]Újmódszer!$U$7*J7+IF(J7>=5,[1]Újmódszer!$AB$7,0)),-2) -> 38600 | M7: 8.05 | N7: =ROUNDDOWN(([1]Újmódszer!$U$7*M7+IF(M7>=5,[1]Újmódszer!$AB$7,0)),-2) -> 43400 | P7: 9.05 | Q7: =ROUNDDOWN(([1]Újmódszer!$U$7*P7+IF(P7>=5,[1]Újmódszer!$AB$7,0)),-2) -> 48200 | S7: 10.05 | T7: =ROUNDDOWN(([1]Újmódszer!$U$7*S7+IF(S7>=5,[1]Újmódszer!$AB$7,0)),-2) -> 52900 | V7: 11.05 | W7: =ROUNDDOWN(([1]Újmódszer!$U$7*V7+IF(V7>=5,[1]Újmódszer!$AB$7,0)),-2) -> 57700
A8: 4.16 | B8: =ROUNDDOWN(([1]Újmódszer!$U$7*A8+IF(A8>=5,[1]Újmódszer!$AB$7,0)),-2) -> 19800 | D8: 5.06 | E8: =ROUNDDOWN(([1]Újmódszer!$U$7*D8+IF(D8>=5,[1]Újmódszer!$AB$7,0)),-2) -> 29100 | G8: 6.06 | H8: =ROUNDDOWN(([1]Újmódszer!$U$7*G8+IF(G8>=5,[1]Újmódszer!$AB$7,0)),-2) -> 33900 | J8: 7.06 | K8: =ROUNDDOWN(([1]Újmódszer!$U$7*J8+IF(J8>=5,[1]Újmódszer!$AB$7,0)),-2) -> 38700 | M8: 8.06 | N8: =ROUNDDOWN(([1]Újmódszer!$U$7*M8+IF(M8>=5,[1]Újmódszer!$AB$7,0)),-2) -> 43400 | P8: 9.06 | Q8: =ROUNDDOWN(([1]Újmódszer!$U$7*P8+IF(P8>=5,[1]Újmódszer!$AB$7,0)),-2) -> 48200 | S8: 10.06 | T8: =ROUNDDOWN(([1]Újmódszer!$U$7*S8+IF(S8>=5,[1]Újmódszer!$AB$7,0)),-2) -> 53000 | V8: 11.06 | W8: =ROUNDDOWN(([1]Újmódszer!$U$7*V8+IF(V8>=5,[1]Újmódszer!$AB$7,0)),-2) -> 57800
A9: 4.17 | B9: =ROUNDDOWN(([1]Újmódszer!$U$7*A9+IF(A9>=5,[1]Újmódszer!$AB$7,0)),-2) -> 19900 | D9: 5.07 | E9: =ROUNDDOWN(([1]Újmódszer!$U$7*D9+IF(D9>=5,[1]Újmódszer!$AB$7,0)),-2) -> 29200 | G9: 6.07 | H9: =ROUNDDOWN(([1]Újmódszer!$U$7*G9+IF(G9>=5,[1]Újmódszer!$AB$7,0)),-2) -> 33900 | J9: 7.07 | K9: =ROUNDDOWN(([1]Újmódszer!$U$7*J9+IF(J9>=5,[1]Újmódszer!$AB$7,0)),-2) -> 38700 | M9: 8.07 | N9: =ROUNDDOWN(([1]Újmódszer!$U$7*M9+IF(M9>=5,[1]Újmódszer!$AB$7,0)),-2) -> 43500 | P9: 9.07 | Q9: =ROUNDDOWN(([1]Újmódszer!$U$7*P9+IF(P9>=5,[1]Újmódszer!$AB$7,0)),-2) -> 48300 | S9: 10.07 | T9: =ROUNDDOWN(([1]Újmódszer!$U$7*S9+IF(S9>=5,[1]Újmódszer!$AB$7,0)),-2) -> 53000 | V9: 11.07 | W9: =ROUNDDOWN(([1]Újmódszer!$U$7*V9+IF(V9>=5,[1]Újmódszer!$AB$7,0)),-2) -> 57800
A10: 4.18 | B10: =ROUNDDOWN(([1]Újmódszer!$U$7*A10+IF(A10>=5,[1]Újmódszer!$AB$7,0)),-2) -> 19900 | D10: 5.08 | E10: =ROUNDDOWN(([1]Újmódszer!$U$7*D10+IF(D10>=5,[1]Újmódszer!$AB$7,0)),-2) -> 29200 | G10: 6.08 | H10: =ROUNDDOWN(([1]Újmódszer!$U$7*G10+IF(G10>=5,[1]Újmódszer!$AB$7,0)),-2) -> 34000 | J10: 7.08 | K10: =ROUNDDOWN(([1]Újmódszer!$U$7*J10+IF(J10>=5,[1]Újmódszer!$AB$7,0)),-2) -> 38800 | M10: 8.08 | N10: =ROUNDDOWN(([1]Újmódszer!$U$7*M10+IF(M10>=5,[1]Újmódszer!$AB$7,0)),-2) -> 43500 | P10: 9.08 | Q10: =ROUNDDOWN(([1]Újmódszer!$U$7*P10+IF(P10>=5,[1]Újmódszer!$AB$7,0)),-2) -> 48300 | S10: 10.08 | T10: =ROUNDDOWN(([1]Újmódszer!$U$7*S10+IF(S10>=5,[1]Újmódszer!$AB$7,0)),-2) -> 53100 | V10: 11.08 | W10: =ROUNDDOWN(([1]Újmódszer!$U$7*V10+IF(V10>=5,[1]Újmódszer!$AB$7,0)),-2) -> 57800
A11: 4.19 | B11: =ROUNDDOWN(([1]Újmódszer!$U$7*A11+IF(A11>=5,[1]Újmódszer!$AB$7,0)),-2) -> 20000 | D11: 5.09 | E11: =ROUNDDOWN(([1]Újmódszer!$U$7*D11+IF(D11>=5,[1]Újmódszer!$AB$7,0)),-2) -> 29300 | G11: 6.09 | H11: =ROUNDDOWN(([1]Újmódszer!$U$7*G11+IF(G11>=5,[1]Újmódszer!$AB$7,0)),-2) -> 34000 | J11: 7.09 | K11: =ROUNDDOWN(([1]Újmódszer!$U$7*J11+IF(J11>=5,[1]Újmódszer!$AB$7,0)),-2) -> 38800 | M11: 8.09 | N11: =ROUNDDOWN(([1]Újmódszer!$U$7*M11+IF(M11>=5,[1]Újmódszer!$AB$7,0)),-2) -> 43600 | P11: 9.09 | Q11: =ROUNDDOWN(([1]Újmódszer!$U$7*P11+IF(P11>=5,[1]Újmódszer!$AB$7,0)),-2) -> 48300 | S11: 10.09 | T11: =ROUNDDOWN(([1]Újmódszer!$U$7*S11+IF(S11>=5,[1]Újmódszer!$AB$7,0)),-2) -> 53100 | V11: 11.09 | W11: =ROUNDDOWN(([1]Újmódszer!$U$7*V11+IF(V11>=5,[1]Újmódszer!$AB$7,0)),-2) -> 57900
A12: 4.2 | B12: =ROUNDDOWN(([1]Újmódszer!$U$7*A12+IF(A12>=5,[1]Újmódszer!$AB$7,0)),-2) -> 20000 | D12: 5.1 | E12: =ROUNDDOWN(([1]Újmódszer!$U$7*D12+IF(D12>=5,[1]Újmódszer!$AB$7,0)),-2) -> 29300 | G12: 6.1 | H12: =ROUNDDOWN(([1]Újmódszer!$U$7*G12+IF(G12>=5,[1]Újmódszer!$AB$7,0)),-2) -> 34100 | J12: 7.1 | K12: =ROUNDDOWN(([1]Újmódszer!$U$7*J12+IF(J12>=5,[1]Újmódszer!$AB$7,0)),-2) -> 38800 | M12: 8.1 | N12: =ROUNDDOWN(([1]Újmódszer!$U$7*M12+IF(M12>=5,[1]Újmódszer!$AB$7,0)),-2) -> 43600 | P12: 9.1 | Q12: =ROUNDDOWN(([1]Újmódszer!$U$7*P12+IF(P12>=5,[1]Újmódszer!$AB$7,0)),-2) -> 48400 | S12: 10.1 | T12: =ROUNDDOWN(([1]Újmódszer!$U$7*S12+IF(S12>=5,[1]Újmódszer!$AB$7,0)),-2) -> 53200 | V12: 11.1 | W12: =ROUNDDOWN(([1]Újmódszer!$U$7*V12+IF(V12>=5,[1]Újmódszer!$AB$7,0)),-2) -> 57900
A13: 4.21 | B13: =ROUNDDOWN(([1]Újmódszer!$U$7*A13+IF(A13>=5,[1]Újmódszer!$AB$7,0)),-2) -> 20000 | D13: 5.11 | E13: =ROUNDDOWN(([1]Újmódszer!$U$7*D13+IF(D13>=5,[1]Újmódszer!$AB$7,0)),-2) -> 29300 | G13: 6.11 | H13: =ROUNDDOWN(([1]Újmódszer!$U$7*G13+IF(G13>=5,[1]Újmódszer!$AB$7,0)),-2) -> 34100 | J13: 7.11 | K13: =ROUNDDOWN(([1]Újmódszer!$U$7*J13+IF(J13>=5,[1]Újmódszer!$AB$7,0)),-2) -> 38900 | M13: 8.11 | N13: =ROUNDDOWN(([1]Újmódszer!$U$7*M13+IF(M13>=5,[1]Újmódszer!$AB$7,0)),-2) -> 43700 | P13: 9.11 | Q13: =ROUNDDOWN(([1]Újmódszer!$U$7*P13+IF(P13>=5,[1]Újmódszer!$AB$7,0)),-2) -> 48400 | S13: 10.11 | T13: =ROUNDDOWN(([1]Újmódszer!$U$7*S13+IF(S13>=5,[1]Újmódszer!$AB$7,0)),-2) -> 53200 | V13: 11.11 | W13: =ROUNDDOWN(([1]Újmódszer!$U$7*V13+IF(V13>=5,[1]Újmódszer!$AB$7,0)),-2) -> 58000
... A91: 4.99 | B91: =ROUNDDOWN(([1]Újmódszer!$U$7*A91+IF(A91>=5,[1]Újmódszer!$AB$7,0)),-2) -> 23800 | D91: 5.89 | E91: =ROUNDDOWN(([1]Újmódszer!$U$7*D91+IF(D91>=5,[1]Újmódszer!$AB$7,0)),-2) -> 33100 | G91: 6.89 | H91: =ROUNDDOWN(([1]Újmódszer!$U$7*G91+IF(G91>=5,[1]Újmódszer!$AB$7,0)),-2) -> 37800 | J91: 7.89 | K91: =ROUNDDOWN(([1]Újmódszer!$U$7*J91+IF(J91>=5,[1]Újmódszer!$AB$7,0)),-2) -> 42600 | M91: 8.89 | N91: =ROUNDDOWN(([1]Újmódszer!$U$7*M91+IF(M91>=5,[1]Újmódszer!$AB$7,0)),-2) -> 47400 | P91: 9.89 | Q91: =ROUNDDOWN(([1]Újmódszer!$U$7*P91+IF(P91>=5,[1]Újmódszer!$AB$7,0)),-2) -> 52200 | S91: 10.89 | T91: =ROUNDDOWN(([1]Újmódszer!$U$7*S91+IF(S91>=5,[1]Újmódszer!$AB$7,0)),-2) -> 56900 | V91: 14.9 | W91: =ROUNDDOWN(([1]Újmódszer!$U$7*V91+IF(V91>=5,[1]Újmódszer!$AB$7,0)),-2) -> 76100
D92: 5.9 | E92: =ROUNDDOWN(([1]Újmódszer!$U$7*D92+IF(D92>=5,[1]Újmódszer!$AB$7,0)),-2) -> 33100 | G92: 6.9 | H92: =ROUNDDOWN(([1]Újmódszer!$U$7*G92+IF(G92>=5,[1]Újmódszer!$AB$7,0)),-2) -> 37900 | J92: 7.9 | K92: =ROUNDDOWN(([1]Újmódszer!$U$7*J92+IF(J92>=5,[1]Újmódszer!$AB$7,0)),-2) -> 42700 | M92: 8.9 | N92: =ROUNDDOWN(([1]Újmódszer!$U$7*M92+IF(M92>=5,[1]Újmódszer!$AB$7,0)),-2) -> 47400 | P92: 9.9 | Q92: =ROUNDDOWN(([1]Újmódszer!$U$7*P92+IF(P92>=5,[1]Újmódszer!$AB$7,0)),-2) -> 52200 | S92: 10.9 | T92: =ROUNDDOWN(([1]Újmódszer!$U$7*S92+IF(S92>=5,[1]Újmódszer!$AB$7,0)),-2) -> 57000 | V92: 14.95 | W92: =ROUNDDOWN(([1]Újmódszer!$U$7*V92+IF(V92>=5,[1]Újmódszer!$AB$7,0)),-2) -> 76300
D93: 5.91 | E93: =ROUNDDOWN(([1]Újmódszer!$U$7*D93+IF(D93>=5,[1]Újmódszer!$AB$7,0)),-2) -> 33200 | G93: 6.91 | H93: =ROUNDDOWN(([1]Újmódszer!$U$7*G93+IF(G93>=5,[1]Újmódszer!$AB$7,0)),-2) -> 37900 | J93: 7.91 | K93: =ROUNDDOWN(([1]Újmódszer!$U$7*J93+IF(J93>=5,[1]Újmódszer!$AB$7,0)),-2) -> 42700 | M93: 8.91 | N93: =ROUNDDOWN(([1]Újmódszer!$U$7*M93+IF(M93>=5,[1]Újmódszer!$AB$7,0)),-2) -> 47500 | P93: 9.91 | Q93: =ROUNDDOWN(([1]Újmódszer!$U$7*P93+IF(P93>=5,[1]Újmódszer!$AB$7,0)),-2) -> 52300 | S93: 10.91 | T93: =ROUNDDOWN(([1]Újmódszer!$U$7*S93+IF(S93>=5,[1]Újmódszer!$AB$7,0)),-2) -> 57000 | V93: 15 | W93: =ROUNDDOWN(([1]Újmódszer!$U$7*V93+IF(V93>=5,[1]Újmódszer!$AB$7,0)),-2) -> 76600
D94: 5.92 | E94: =ROUNDDOWN(([1]Újmódszer!$U$7*D94+IF(D94>=5,[1]Újmódszer!$AB$7,0)),-2) -> 33200 | G94: 6.92 | H94: =ROUNDDOWN(([1]Újmódszer!$U$7*G94+IF(G94>=5,[1]Újmódszer!$AB$7,0)),-2) -> 38000 | J94: 7.92 | K94: =ROUNDDOWN(([1]Újmódszer!$U$7*J94+IF(J94>=5,[1]Újmódszer!$AB$7,0)),-2) -> 42800 | M94: 8.92 | N94: =ROUNDDOWN(([1]Újmódszer!$U$7*M94+IF(M94>=5,[1]Újmódszer!$AB$7,0)),-2) -> 47500 | P94: 9.92 | Q94: =ROUNDDOWN(([1]Újmódszer!$U$7*P94+IF(P94>=5,[1]Újmódszer!$AB$7,0)),-2) -> 52300 | S94: 10.92 | T94: =ROUNDDOWN(([1]Újmódszer!$U$7*S94+IF(S94>=5,[1]Újmódszer!$AB$7,0)),-2) -> 57100 | V94: 15.05 | W94: =ROUNDDOWN(([1]Újmódszer!$U$7*V94+IF(V94>=5,[1]Újmódszer!$AB$7,0)),-2) -> 76800
D95: 5.93 | E95: =ROUNDDOWN(([1]Újmódszer!$U$7*D95+IF(D95>=5,[1]Újmódszer!$AB$7,0)),-2) -> 33300 | G95: 6.93 | H95: =ROUNDDOWN(([1]Újmódszer!$U$7*G95+IF(G95>=5,[1]Újmódszer!$AB$7,0)),-2) -> 38000 | J95: 7.93 | K95: =ROUNDDOWN(([1]Újmódszer!$U$7*J95+IF(J95>=5,[1]Újmódszer!$AB$7,0)),-2) -> 42800 | M95: 8.93 | N95: =ROUNDDOWN(([1]Újmódszer!$U$7*M95+IF(M95>=5,[1]Újmódszer!$AB$7,0)),-2) -> 47600 | P95: 9.93 | Q95: =ROUNDDOWN(([1]Újmódszer!$U$7*P95+IF(P95>=5,[1]Újmódszer!$AB$7,0)),-2) -> 52400 | S95: 10.93 | T95: =ROUNDDOWN(([1]Újmódszer!$U$7*S95+IF(S95>=5,[1]Újmódszer!$AB$7,0)),-2) -> 57100 | V95: 15.1 | W95: =ROUNDDOWN(([1]Újmódszer!$U$7*V95+IF(V95>=5,[1]Újmódszer!$AB$7,0)),-2) -> 77000
D96: 5.94 | E96: =ROUNDDOWN(([1]Újmódszer!$U$7*D96+IF(D96>=5,[1]Újmódszer!$AB$7,0)),-2) -> 33300 | G96: 6.94 | H96: =ROUNDDOWN(([1]Újmódszer!$U$7*G96+IF(G96>=5,[1]Újmódszer!$AB$7,0)),-2) -> 38100 | J96: 7.94 | K96: =ROUNDDOWN(([1]Újmódszer!$U$7*J96+IF(J96>=5,[1]Újmódszer!$AB$7,0)),-2) -> 42900 | M96: 8.94 | N96: =ROUNDDOWN(([1]Újmódszer!$U$7*M96+IF(M96>=5,[1]Újmódszer!$AB$7,0)),-2) -> 47600 | P96: 9.94 | Q96: =ROUNDDOWN(([1]Újmódszer!$U$7*P96+IF(P96>=5,[1]Újmódszer!$AB$7,0)),-2) -> 52400 | S96: 10.94 | T96: =ROUNDDOWN(([1]Újmódszer!$U$7*S96+IF(S96>=5,[1]Újmódszer!$AB$7,0)),-2) -> 57200 | V96: 15.15 | W96: =ROUNDDOWN(([1]Újmódszer!$U$7*V96+IF(V96>=5,[1]Újmódszer!$AB$7,0)),-2) -> 77300
D97: 5.95 | E97: =ROUNDDOWN(([1]Újmódszer!$U$7*D97+IF(D97>=5,[1]Újmódszer!$AB$7,0)),-2) -> 33400 | G97: 6.95 | H97: =ROUNDDOWN(([1]Újmódszer!$U$7*G97+IF(G97>=5,[1]Újmódszer!$AB$7,0)),-2) -> 38100 | J97: 7.95 | K97: =ROUNDDOWN(([1]Újmódszer!$U$7*J97+IF(J97>=5,[1]Újmódszer!$AB$7,0)),-2) -> 42900 | M97: 8.95 | N97: =ROUNDDOWN(([1]Újmódszer!$U$7*M97+IF(M97>=5,[1]Újmódszer!$AB$7,0)),-2) -> 47700 | P97: 9.95 | Q97: =ROUNDDOWN(([1]Újmódszer!$U$7*P97+IF(P97>=5,[1]Újmódszer!$AB$7,0)),-2) -> 52500 | S97: 10.95 | T97: =ROUNDDOWN(([1]Újmódszer!$U$7*S97+IF(S97>=5,[1]Újmódszer!$AB$7,0)),-2) -> 57200 | V97: 15.2 | W97: =ROUNDDOWN(([1]Újmódszer!$U$7*V97+IF(V97>=5,[1]Újmódszer!$AB$7,0)),-2) -> 77500
D98: 5.96 | E98: =ROUNDDOWN(([1]Újmódszer!$U$7*D98+IF(D98>=5,[1]Újmódszer!$AB$7,0)),-2) -> 33400 | G98: 6.96 | H98: =ROUNDDOWN(([1]Újmódszer!$U$7*G98+IF(G98>=5,[1]Újmódszer!$AB$7,0)),-2) -> 38200 | J98: 7.96 | K98: =ROUNDDOWN(([1]Újmódszer!$U$7*J98+IF(J98>=5,[1]Újmódszer!$AB$7,0)),-2) -> 43000 | M98: 8.96 | N98: =ROUNDDOWN(([1]Újmódszer!$U$7*M98+IF(M98>=5,[1]Újmódszer!$AB$7,0)),-2) -> 47700 | P98: 9.96 | Q98: =ROUNDDOWN(([1]Újmódszer!$U$7*P98+IF(P98>=5,[1]Újmódszer!$AB$7,0)),-2) -> 52500 | S98: 10.96 | T98: =ROUNDDOWN(([1]Újmódszer!$U$7*S98+IF(S98>=5,[1]Újmódszer!$AB$7,0)),-2) -> 57300 | V98: 15.25 | W98: =ROUNDDOWN(([1]Újmódszer!$U$7*V98+IF(V98>=5,[1]Újmódszer!$AB$7,0)),-2) -> 77800
D99: 5.97 | E99: =ROUNDDOWN(([1]Újmódszer!$U$7*D99+IF(D99>=5,[1]Újmódszer!$AB$7,0)),-2) -> 33500 | G99: 6.97 | H99: =ROUNDDOWN(([1]Újmódszer!$U$7*G99+IF(G99>=5,[1]Újmódszer!$AB$7,0)),-2) -> 38200 | J99: 7.97 | K99: =ROUNDDOWN(([1]Újmódszer!$U$7*J99+IF(J99>=5,[1]Újmódszer!$AB$7,0)),-2) -> 43000 | M99: 8.97 | N99: =ROUNDDOWN(([1]Újmódszer!$U$7*M99+IF(M99>=5,[1]Újmódszer!$AB$7,0)),-2) -> 47800 | P99: 9.97 | Q99: =ROUNDDOWN(([1]Újmódszer!$U$7*P99+IF(P99>=5,[1]Újmódszer!$AB$7,0)),-2) -> 52500 | S99: 10.97 | T99: =ROUNDDOWN(([1]Újmódszer!$U$7*S99+IF(S99>=5,[1]Újmódszer!$AB$7,0)),-2) -> 57300 | V99: 15.3 | W99: =ROUNDDOWN(([1]Újmódszer!$U$7*V99+IF(V99>=5,[1]Újmódszer!$AB$7,0)),-2) -> 78000
D100: 5.98 | E100: =ROUNDDOWN(([1]Újmódszer!$U$7*D100+IF(D100>=5,[1]Újmódszer!$AB$7,0)),-2) -> 33500 | G100: 6.98 | H100: =ROUNDDOWN(([1]Újmódszer!$U$7*G100+IF(G100>=5,[1]Újmódszer!$AB$7,0)),-2) -> 38300 | J100: 7.98 | K100: =ROUNDDOWN(([1]Újmódszer!$U$7*J100+IF(J100>=5,[1]Újmódszer!$AB$7,0)),-2) -> 43000 | M100: 8.98 | N100: =ROUNDDOWN(([1]Újmódszer!$U$7*M100+IF(M100>=5,[1]Újmódszer!$AB$7,0)),-2) -> 47800 | P100: 9.98 | Q100: =ROUNDDOWN(([1]Újmódszer!$U$7*P100+IF(P100>=5,[1]Újmódszer!$AB$7,0)),-2) -> 52600 | S100: 10.98 | T100: =ROUNDDOWN(([1]Újmódszer!$U$7*S100+IF(S100>=5,[1]Újmódszer!$AB$7,0)),-2) -> 57400 | V100: 15.35 | W100: =ROUNDDOWN(([1]Újmódszer!$U$7*V100+IF(V100>=5,[1]Újmódszer!$AB$7,0)),-2) -> 78200
D101: 5.99 | E101: =ROUNDDOWN(([1]Újmódszer!$U$7*D101+IF(D101>=5,[1]Újmódszer!$AB$7,0)),-2) -> 33500 | G101: 6.99 | H101: =ROUNDDOWN(([1]Újmódszer!$U$7*G101+IF(G101>=5,[1]Újmódszer!$AB$7,0)),-2) -> 38300 | J101: 7.99 | K101: =ROUNDDOWN(([1]Újmódszer!$U$7*J101+IF(J101>=5,[1]Újmódszer!$AB$7,0)),-2) -> 43100 | M101: 8.99 | N101: =ROUNDDOWN(([1]Újmódszer!$U$7*M101+IF(M101>=5,[1]Újmódszer!$AB$7,0)),-2) -> 47900 | P101: 9.99 | Q101: =ROUNDDOWN(([1]Újmódszer!$U$7*P101+IF(P101>=5,[1]Újmódszer!$AB$7,0)),-2) -> 52600 | S101: 10.99 | T101: =ROUNDDOWN(([1]Újmódszer!$U$7*S101+IF(S101>=5,[1]Újmódszer!$AB$7,0)),-2) -> 57400 | V101: 15.4 | W101: =ROUNDDOWN(([1]Újmódszer!$U$7*V101+IF(V101>=5,[1]Újmódszer!$AB$7,0)),-2) -> 78500
